BEGIN:VCALENDAR
VERSION:2.0
PRODID:-//Fortunate Discoveries - ECPv5.9.0//NONSGML v1.0//EN
CALSCALE:GREGORIAN
METHOD:PUBLISH
X-WR-CALNAME:Fortunate Discoveries
X-ORIGINAL-URL:https://fortunatediscoveries.com
X-WR-CALDESC:Events for Fortunate Discoveries
BEGIN:VTIMEZONE
TZID:America/Chicago
BEGIN:DAYLIGHT
TZOFFSETFROM:-0600
TZOFFSETTO:-0500
TZNAME:CDT
DTSTART:20140309T080000
END:DAYLIGHT
BEGIN:STANDARD
TZOFFSETFROM:-0500
TZOFFSETTO:-0600
TZNAME:CST
DTSTART:20141102T070000
END:STANDARD
END:VTIMEZONE
BEGIN:VEVENT
DTSTART;VALUE=DATE:20141129
DTEND;VALUE=DATE:20141130
DTSTAMP:20260424T093012
CREATED:20141128T212216Z
LAST-MODIFIED:20141128T222105Z
UID:2561-1417219200-1417305599@fortunatediscoveries.com
SUMMARY:Small Business Saturday
DESCRIPTION:Something to be Grateful for!\nA day dedicated to supporting small businesses across the country. Fortunate Discoveries is proud to be taking part and we are thankful to all of our customers for their continued support. For more information on Small Business Saturday click here.\nSelect vendors will be having Special Sales: \n\nJoe Mills:  Chicago Playing Cards\, 1 deck $15\, 2 decks $25\, each additional deck $12!\nPritz Photography: All artwork 10% off on Small Business Saturday!\n\nShift Clothier: All clothing 10% off on Small Business Saturday!\n\nTania Rodamilans Art Works: 10% off all jewelry on Small Business Saturday!\n\nReformado Photography: 20% off all merchandise on Small Business Saturday!\n\nSanta Rosa Stitches: 25% off all merchandise on Small Business Saturday!\n\nMaureen Claffy Artwork: 15% all artwork on Small Business Saturday!\n\nSmall Business Saturday\, a great time to start your holiday shopping & to shop local.
URL:https://fortunatediscoveries.com/event/small-business-saturday/
LOCATION:Fortunate Discoveries\, 1022 W. Armitage Ave.\, Chicago\, IL\, 60614\, United States
END:VEVENT
END:VCALENDAR