BEGIN:VCALENDAR
VERSION:2.0
PRODID:-//Fortunate Discoveries - ECPv5.9.0//NONSGML v1.0//EN
CALSCALE:GREGORIAN
METHOD:PUBLISH
X-WR-CALNAME:Fortunate Discoveries
X-ORIGINAL-URL:https://fortunatediscoveries.com
X-WR-CALDESC:Events for Fortunate Discoveries
BEGIN:VTIMEZONE
TZID:America/Chicago
BEGIN:DAYLIGHT
TZOFFSETFROM:-0600
TZOFFSETTO:-0500
TZNAME:CDT
DTSTART:20150308T080000
END:DAYLIGHT
BEGIN:STANDARD
TZOFFSETFROM:-0500
TZOFFSETTO:-0600
TZNAME:CST
DTSTART:20151101T070000
END:STANDARD
END:VTIMEZONE
BEGIN:VEVENT
DTSTART;TZID=America/Chicago:20150718T100000
DTEND;TZID=America/Chicago:20150719T180000
DTSTAMP:20260421T213705
CREATED:20150715T154426Z
LAST-MODIFIED:20150715T154426Z
UID:2797-1437213600-1437328800@fortunatediscoveries.com
SUMMARY:LMPA Sidewalk Sale!
DESCRIPTION:
URL:https://fortunatediscoveries.com/event/lmpa-sidewalk-sale/
END:VEVENT
END:VCALENDAR