BEGIN:VCALENDAR
VERSION:2.0
PRODID:-//Fortunate Discoveries - ECPv5.9.0//NONSGML v1.0//EN
CALSCALE:GREGORIAN
METHOD:PUBLISH
X-WR-CALNAME:Fortunate Discoveries
X-ORIGINAL-URL:https://fortunatediscoveries.com
X-WR-CALDESC:Events for Fortunate Discoveries
BEGIN:VTIMEZONE
TZID:America/Chicago
BEGIN:DAYLIGHT
TZOFFSETFROM:-0600
TZOFFSETTO:-0500
TZNAME:CDT
DTSTART:20140309T080000
END:DAYLIGHT
BEGIN:STANDARD
TZOFFSETFROM:-0500
TZOFFSETTO:-0600
TZNAME:CST
DTSTART:20141102T070000
END:STANDARD
END:VTIMEZONE
BEGIN:VEVENT
DTSTART;TZID=America/Chicago:20141106T180000
DTEND;TZID=America/Chicago:20141106T210000
DTSTAMP:20260424T115254
CREATED:20141016T185838Z
LAST-MODIFIED:20141016T190339Z
UID:2521-1415296800-1415307600@fortunatediscoveries.com
SUMMARY:First Thursday Event: November 6th
DESCRIPTION:Please join us for an evening of art\, design and drinks. \nThis event is in collaboration with the Lincoln Park Merchant Association. \nMore details to come.
URL:https://fortunatediscoveries.com/event/first-thursday-event-november-6th/
LOCATION:Fortunate Discoveries\, 1022 W. Armitage Ave.\, Chicago\, IL\, 60614\, United States
END:VEVENT
END:VCALENDAR