BEGIN:VCALENDAR
VERSION:2.0
PRODID:-//Fortunate Discoveries - ECPv5.9.0//NONSGML v1.0//EN
CALSCALE:GREGORIAN
METHOD:PUBLISH
X-WR-CALNAME:Fortunate Discoveries
X-ORIGINAL-URL:https://fortunatediscoveries.com
X-WR-CALDESC:Events for Fortunate Discoveries
BEGIN:VTIMEZONE
TZID:America/Chicago
BEGIN:DAYLIGHT
TZOFFSETFROM:-0600
TZOFFSETTO:-0500
TZNAME:CDT
DTSTART:20160313T080000
END:DAYLIGHT
BEGIN:STANDARD
TZOFFSETFROM:-0500
TZOFFSETTO:-0600
TZNAME:CST
DTSTART:20161106T070000
END:STANDARD
END:VTIMEZONE
BEGIN:VEVENT
DTSTART;TZID=America/Chicago:20160404T130000
DTEND;TZID=America/Chicago:20160404T180000
DTSTAMP:20260421T124046
CREATED:20160404T162651Z
LAST-MODIFIED:20160404T162651Z
UID:3012-1459774800-1459792800@fortunatediscoveries.com
SUMMARY:First Thursday Event: April 7th!
DESCRIPTION:April 1st is our 4 year anniversary! Thank you so much for your patronage and enthusiasm over the years! \nIn conjunction with the Lincoln Park Merchant Association\, we will be hosting artisan trunk shows every first Thursday of the month. These events will be held during business hours and will include refreshments. \nOn April 7\, Joy Appenzeller Bauer will be doing a Lincoln Park plein air painting out front or floral still life demo inside if we have inclement weather. Come by and see a painting develop from start to finish (1:00pm – 6:00pm).
URL:https://fortunatediscoveries.com/event/first-thursday-event-april-7th/
LOCATION:Fortunate Discoveries\, 1022 W. Armitage Ave.\, Chicago\, IL\, 60614\, United States
END:VEVENT
END:VCALENDAR