BEGIN:VCALENDAR
VERSION:2.0
PRODID:-//Fortunate Discoveries - ECPv5.9.0//NONSGML v1.0//EN
CALSCALE:GREGORIAN
METHOD:PUBLISH
X-WR-CALNAME:Fortunate Discoveries
X-ORIGINAL-URL:https://fortunatediscoveries.com
X-WR-CALDESC:Events for Fortunate Discoveries
BEGIN:VTIMEZONE
TZID:America/Chicago
BEGIN:DAYLIGHT
TZOFFSETFROM:-0600
TZOFFSETTO:-0500
TZNAME:CDT
DTSTART:20150308T080000
END:DAYLIGHT
BEGIN:STANDARD
TZOFFSETFROM:-0500
TZOFFSETTO:-0600
TZNAME:CST
DTSTART:20151101T070000
END:STANDARD
END:VTIMEZONE
BEGIN:VEVENT
DTSTART;TZID=America/Chicago:20150402T060000
DTEND;TZID=America/Chicago:20150402T200000
DTSTAMP:20260424T045345
CREATED:20150402T215147Z
LAST-MODIFIED:20150402T215147Z
UID:2657-1427954400-1428004800@fortunatediscoveries.com
SUMMARY:First Thursday Event: April 2
DESCRIPTION:Lincoln Park’s First Thursdays are back! \nThursday\, April 2 | 6-8 pm \nSpring is here! Stroll down the beautiful streets of Armitage\, Halsted and Webster in Lincoln Park the first Thursday of the month and check out new shops and restaurants\, as well as neighborhood staples. Each participating store will have something different to offer you\, whether it be treats\, new Spring arrivals\, a Trunk Show or a featured artist.
URL:https://fortunatediscoveries.com/event/first-thursday-event-april-2/
LOCATION:Fortunate Discoveries\, 1022 W. Armitage Ave.\, Chicago\, IL\, 60614\, United States
END:VEVENT
END:VCALENDAR