BEGIN:VCALENDAR
VERSION:2.0
PRODID:-//Fortunate Discoveries - ECPv5.9.0//NONSGML v1.0//EN
CALSCALE:GREGORIAN
METHOD:PUBLISH
X-WR-CALNAME:Fortunate Discoveries
X-ORIGINAL-URL:https://fortunatediscoveries.com
X-WR-CALDESC:Events for Fortunate Discoveries
BEGIN:VTIMEZONE
TZID:America/Chicago
BEGIN:DAYLIGHT
TZOFFSETFROM:-0600
TZOFFSETTO:-0500
TZNAME:CDT
DTSTART:20160313T080000
END:DAYLIGHT
BEGIN:STANDARD
TZOFFSETFROM:-0500
TZOFFSETTO:-0600
TZNAME:CST
DTSTART:20161106T070000
END:STANDARD
END:VTIMEZONE
BEGIN:VEVENT
DTSTART;TZID=America/Chicago:20161203T010000
DTEND;TZID=America/Chicago:20161203T133000
DTSTAMP:20260421T061144
CREATED:20161206T204136Z
LAST-MODIFIED:20161206T204300Z
UID:3226-1480726800-1480771800@fortunatediscoveries.com
SUMMARY:Carolers at Fortunate Discoveries!
DESCRIPTION:
URL:https://fortunatediscoveries.com/event/carolers-at-fortunate-discoveries/
LOCATION:Fortunate Discoveries\, 1022 W. Armitage Ave.\, Chicago\, IL\, 60614\, United States
CATEGORIES:Calendar
END:VEVENT
END:VCALENDAR